BEGIN:VCALENDAR
VERSION:2.0
PRODID:-//Gradska knjižnica Senj - ECPv5.7.0//NONSGML v1.0//EN
CALSCALE:GREGORIAN
METHOD:PUBLISH
X-WR-CALNAME:Gradska knjižnica Senj
X-ORIGINAL-URL:https://knjiznice.nsk.hr/senj
X-WR-CALDESC:Događaji za Gradska knjižnica Senj
BEGIN:VTIMEZONE
TZID:UTC
BEGIN:STANDARD
TZOFFSETFROM:+0000
TZOFFSETTO:+0000
TZNAME:UTC
DTSTART:20260101T000000
END:STANDARD
END:VTIMEZONE
BEGIN:VEVENT
DTSTART;TZID=UTC:20260423T200000
DTEND;TZID=UTC:20260423T230000
DTSTAMP:20260420T052409
CREATED:20260414T062313Z
LAST-MODIFIED:20260414T062313Z
UID:3366-1776974400-1776985200@knjiznice.nsk.hr
SUMMARY:NOĆ KNJIGE 2026.g.
DESCRIPTION:GRADSKA KNJIŽNICA SENJ POZIVA VAS NA NOĆ KNJIGE 2026.g.\nČETVRTAK\, 23.TRAVNJA 2026. g. u 20 h \nU programu vas očekuje: \n	Gostovanje spisateljice i komičarke Marijane Perinić\n        Marijana Perinić\, svestrana spisateljica i komičarka na zabavan i zanimljiv\n        način će nam predstaviti svoj književni opus s naglaskom na posljednju\n        izdanu knjigu-„Sve što su mi prešutjeli o muškarcima i ženama“.\n	Akcija „Knjiga od srca“\nCijelu Noć knjige prodavat će se knjige po povoljnim cijenama\, a sav prihod ide potrebitim obiteljima s područja Grada Senja.\n	Izložba „Nehajevu u čast“\nPovodom 95.obljetnice smrti velikog senjskog i hrvatskog pisca Milutina Cihlara Nehajeva\, priredili smo izložbu koja kroz riječ i sliku slavi ovog poznatog književnika.\n	Akcija „Vratite knjige bez plaćanja zakasnine“\nCijelu Noć knjige moći će se vratiti knjige bez plaćanja zakasnine.\n	Živa glazba\nProgram senjske Noći knjige glazbom će oplemeniti Nenad Petković.\n	Zakuska i druženje \n                                                                                 Veselimo se vašem dolasku!
URL:https://knjiznice.nsk.hr/senj/event/noc-knjige-2026-g/
LOCATION:GRADSKA KNJIŽNICA SENJ\, TRG CILNICA 11\, SENJ\, Hrvatska
ATTACH;FMTTYPE=image/jpeg:https://knjiznice.nsk.hr/senj/wp-content/uploads/sites/60/2026/04/640x3602nk.jpg
END:VEVENT
END:VCALENDAR