BEGIN:VCALENDAR
VERSION:2.0
PRODID:-//Narodna knjižnica Ploče - ECPv5.7.0//NONSGML v1.0//EN
CALSCALE:GREGORIAN
METHOD:PUBLISH
X-WR-CALNAME:Narodna knjižnica Ploče
X-ORIGINAL-URL:https://knjiznice.nsk.hr/ploce
X-WR-CALDESC:Događaji za Narodna knjižnica Ploče
BEGIN:VTIMEZONE
TZID:Europe/Zagreb
BEGIN:DAYLIGHT
TZOFFSETFROM:+0100
TZOFFSETTO:+0200
TZNAME:CEST
DTSTART:20200329T010000
END:DAYLIGHT
BEGIN:STANDARD
TZOFFSETFROM:+0200
TZOFFSETTO:+0100
TZNAME:CET
DTSTART:20201025T010000
END:STANDARD
END:VTIMEZONE
BEGIN:VEVENT
DTSTART;TZID=Europe/Zagreb:20200210T080000
DTEND;TZID=Europe/Zagreb:20200210T170000
DTSTAMP:20260422T111849
CREATED:20200210T122835Z
LAST-MODIFIED:20200210T122835Z
UID:3520-1581321600-1581354000@knjiznice.nsk.hr
SUMMARY:Zajedno u ljubavi
DESCRIPTION:Učenici Osnovne škole “Vladimir Nazor” u Pločama pozivaju na (tradicionalnu) poetsko-glazbenu večer povodom Valentinova u Narodnoj knjižnici Ploče. Ove godine\, večer pod nazivom “Zajedno u ljubavi” održat će se u četvrtak\, 13. veljače s početkom u 18:30 h.  \n\nOrganizator: Aktiv Hrvatskog jezika (Marina Burđelez\, Ivana Pudar Pećar\, Ana Zmijarević).
URL:https://knjiznice.nsk.hr/ploce/event/zajedno-u-ljubavi/
LOCATION:Narodna knjižnica Ploče\, Vladimira Nazora 12/A\, Ploče\, 20340\, Hrvatska
CATEGORIES:Događanja za djecu,Događanja za odrasle
END:VEVENT
END:VCALENDAR