BEGIN:VCALENDAR
VERSION:2.0
PRODID:-//Narodna knjižnica Ploče - ECPv5.7.0//NONSGML v1.0//EN
CALSCALE:GREGORIAN
METHOD:PUBLISH
X-WR-CALNAME:Narodna knjižnica Ploče
X-ORIGINAL-URL:https://knjiznice.nsk.hr/ploce
X-WR-CALDESC:Događaji za Narodna knjižnica Ploče
BEGIN:VTIMEZONE
TZID:Europe/Zagreb
BEGIN:DAYLIGHT
TZOFFSETFROM:+0100
TZOFFSETTO:+0200
TZNAME:CEST
DTSTART:20230326T010000
END:DAYLIGHT
BEGIN:STANDARD
TZOFFSETFROM:+0200
TZOFFSETTO:+0100
TZNAME:CET
DTSTART:20231029T010000
END:STANDARD
END:VTIMEZONE
BEGIN:VEVENT
DTSTART;TZID=Europe/Zagreb:20231026T180000
DTEND;TZID=Europe/Zagreb:20231026T190000
DTSTAMP:20260420T210953
CREATED:20231024T060042Z
LAST-MODIFIED:20231023T160706Z
UID:8684-1698343200-1698346800@knjiznice.nsk.hr
SUMMARY:Vremenaste priče
DESCRIPTION:  \nU četrvtak 26. listopada u 18:00 sati\,  u sklopu programa Mjeseca hrvatske knjige\, poznati hrvatski meteorolog Zoran Vakula predstavit će svoje  slikovnice iz serijala pod nazivom Vremenaste priče. \n \n\nSlikovnice – “Vjetropirasta”\, “Oblačasta”\, “Sunčasta”\, “Pahuljasta”\, “Kapljičasta” i “Munjasta” – iz serijala pod nazivom Vremenaste priče\, slikovnice su na temu meteorologije. Cilj im je educirati – približiti neke često spominjane meteorološke termine mladima\, osobito djeci\, kako bi kasnije bolje razumjela i imala koristi od meteoroloških informacija\, posebice u ovo doba sve očitijih klimatskih promjena i globalnog zatopljenja. Slikovnice su namijenjene djeci predškolske i mlađe školske dobi.\n\n\nViše o slikovnicama iz serije “Vremenaste priče” pogledajte na našem WEB-KATALOGU: https://library.foi.hr/lib/booksearch.php?B=23&H=&E=&V=&lok=&A=%20&zbi=&bil=&bib=&ogr=&upit=Vakula\,%20Zoran&K=A&D=1
URL:https://knjiznice.nsk.hr/ploce/event/vremenaste-price/
LOCATION:Narodna knjižnica Ploče\, Vladimira Nazora 12/A\, Ploče\, 20340\, Hrvatska
CATEGORIES:Događanja za djecu,Pričaonica
END:VEVENT
END:VCALENDAR