BEGIN:VCALENDAR
VERSION:2.0
PRODID:-//Narodna knjižnica Ploče - ECPv5.7.0//NONSGML v1.0//EN
CALSCALE:GREGORIAN
METHOD:PUBLISH
X-WR-CALNAME:Narodna knjižnica Ploče
X-ORIGINAL-URL:https://knjiznice.nsk.hr/ploce
X-WR-CALDESC:Događaji za Narodna knjižnica Ploče
BEGIN:VTIMEZONE
TZID:Europe/Zagreb
BEGIN:DAYLIGHT
TZOFFSETFROM:+0100
TZOFFSETTO:+0200
TZNAME:CEST
DTSTART:20220327T010000
END:DAYLIGHT
BEGIN:STANDARD
TZOFFSETFROM:+0200
TZOFFSETTO:+0100
TZNAME:CET
DTSTART:20221030T010000
END:STANDARD
END:VTIMEZONE
BEGIN:VEVENT
DTSTART;TZID=Europe/Zagreb:20220602T200000
DTEND;TZID=Europe/Zagreb:20220602T210000
DTSTAMP:20260422T105853
CREATED:20220531T071254Z
LAST-MODIFIED:20220531T071254Z
UID:7332-1654200000-1654203600@knjiznice.nsk.hr
SUMMARY:Via Adriatica
DESCRIPTION:Ivan Đelmić – Kako sam prešao Via Adriaticu – biciklističku stazu\nNARODNA KNJIŽNICA PLOČE \nČETVRTAK\, 2. 6. u 20.00 SATI \n  \n 
URL:https://knjiznice.nsk.hr/ploce/event/via-adriatica-predavanje-ivan-delmic/
LOCATION:Narodna knjižnica Ploče\, Vladimira Nazora 12/A\, Ploče\, 20340\, Hrvatska
CATEGORIES:predavanje
END:VEVENT
END:VCALENDAR