BEGIN:VCALENDAR
VERSION:2.0
PRODID:-//Narodna knjižnica Ploče - ECPv5.7.0//NONSGML v1.0//EN
CALSCALE:GREGORIAN
METHOD:PUBLISH
X-WR-CALNAME:Narodna knjižnica Ploče
X-ORIGINAL-URL:https://knjiznice.nsk.hr/ploce
X-WR-CALDESC:Događaji za Narodna knjižnica Ploče
BEGIN:VTIMEZONE
TZID:Europe/Zagreb
BEGIN:DAYLIGHT
TZOFFSETFROM:+0100
TZOFFSETTO:+0200
TZNAME:CEST
DTSTART:20160327T010000
END:DAYLIGHT
BEGIN:STANDARD
TZOFFSETFROM:+0200
TZOFFSETTO:+0100
TZNAME:CET
DTSTART:20161030T010000
END:STANDARD
END:VTIMEZONE
BEGIN:VEVENT
DTSTART;TZID=Europe/Zagreb:20160211T190000
DTEND;TZID=Europe/Zagreb:20160211T200000
DTSTAMP:20260420T210953
CREATED:20160208T101357Z
LAST-MODIFIED:20160208T101357Z
UID:960-1455217200-1455220800@knjiznice.nsk.hr
SUMMARY:Večer ljubavi
DESCRIPTION:Program 4. glazbeno-poetske večeri u Narodnoj knjižnici Ploče\, u organizaciji Aktiva Hrvatskog jezika (Ana Zmijarević\, Marina Burđelez\, Mirela Jurišić) izvode učenici OŠ V. Nazora u Pločama. Pridružite nam se u četvrtak\, 11.2. u 19 h.
URL:https://knjiznice.nsk.hr/ploce/event/vecer-ljubavi/
LOCATION:Narodna knjižnica Ploče\, Vladimira Nazora 12/A\, Ploče\, 20340\, Hrvatska
CATEGORIES:Događanja za djecu,Događanja za odrasle
END:VEVENT
END:VCALENDAR