BEGIN:VCALENDAR
VERSION:2.0
PRODID:-//Narodna knjižnica Ploče - ECPv5.7.0//NONSGML v1.0//EN
CALSCALE:GREGORIAN
METHOD:PUBLISH
X-WR-CALNAME:Narodna knjižnica Ploče
X-ORIGINAL-URL:https://knjiznice.nsk.hr/ploce
X-WR-CALDESC:Događaji za Narodna knjižnica Ploče
BEGIN:VTIMEZONE
TZID:Europe/Zagreb
BEGIN:DAYLIGHT
TZOFFSETFROM:+0100
TZOFFSETTO:+0200
TZNAME:CEST
DTSTART:20240331T010000
END:DAYLIGHT
BEGIN:STANDARD
TZOFFSETFROM:+0200
TZOFFSETTO:+0100
TZNAME:CET
DTSTART:20241027T010000
END:STANDARD
END:VTIMEZONE
BEGIN:VEVENT
DTSTART;TZID=Europe/Zagreb:20240326T180000
DTEND;TZID=Europe/Zagreb:20240326T190000
DTSTAMP:20260422T142439
CREATED:20240325T082741Z
LAST-MODIFIED:20240325T092543Z
UID:9070-1711476000-1711479600@knjiznice.nsk.hr
SUMMARY:Uskrsna radionica
DESCRIPTION:Draga djeco\, pozivamo vas na \nkreativnu radionicu povodom nadolazećeg Uskrsa. \nZa radionicu nisu potrebne prijave. \nVidimo se u utorak\, 26. 3. 2024. u 18:00 sati. \n 
URL:https://knjiznice.nsk.hr/ploce/event/uskrsna-radionica-2/
LOCATION:Narodna knjižnica Ploče\, Vladimira Nazora 12/A\, Ploče\, 20340\, Hrvatska
CATEGORIES:Događanja za djecu,Radionica
END:VEVENT
END:VCALENDAR