BEGIN:VCALENDAR
VERSION:2.0
PRODID:-//Narodna knjižnica Ploče - ECPv5.7.0//NONSGML v1.0//EN
CALSCALE:GREGORIAN
METHOD:PUBLISH
X-WR-CALNAME:Narodna knjižnica Ploče
X-ORIGINAL-URL:https://knjiznice.nsk.hr/ploce
X-WR-CALDESC:Događaji za Narodna knjižnica Ploče
BEGIN:VTIMEZONE
TZID:Europe/Zagreb
BEGIN:DAYLIGHT
TZOFFSETFROM:+0100
TZOFFSETTO:+0200
TZNAME:CEST
DTSTART:20200329T010000
END:DAYLIGHT
BEGIN:STANDARD
TZOFFSETFROM:+0200
TZOFFSETTO:+0100
TZNAME:CET
DTSTART:20201025T010000
END:STANDARD
END:VTIMEZONE
BEGIN:VEVENT
DTSTART;TZID=Europe/Zagreb:20200304T190000
DTEND;TZID=Europe/Zagreb:20200304T200000
DTSTAMP:20260424T111139
CREATED:20200302T174745Z
LAST-MODIFIED:20200302T174835Z
UID:3559-1583348400-1583352000@knjiznice.nsk.hr
SUMMARY:Teškoće čitanja i pisanja
DESCRIPTION:Od 2004. godine Europska udruga logopeda (CPLOL) svakog 6. ožujka obilježava Europski dan logopedije. Hrvatsko logopedsko društvo\, kao pridruženi član CPLOL-a\, različitim događanjima obilježava taj datum.\nTim povodom\, u našoj će knjižnici dvije prvostupnice logopedije\, Mia Mikulić i Marija Mustapić\, održati predavanje na temu “Teškoće čitanja i pisanja”. S obzirom da se nalazimo u manjoj sredini u kojoj je obično do logopeda i sličnih stručnjaka teško doći (treba se putovati i/ili duže čekati na red)\, vjerujemo da će za ovo predavanje mnogi biti zainteresirani. \n  \n 
URL:https://knjiznice.nsk.hr/ploce/event/teskoce-citanja-i-pisanja/
LOCATION:Narodna knjižnica Ploče\, Vladimira Nazora 12/A\, Ploče\, 20340\, Hrvatska
CATEGORIES:Događanja za odrasle
END:VEVENT
END:VCALENDAR