BEGIN:VCALENDAR
VERSION:2.0
PRODID:-//Narodna knjižnica Ploče - ECPv5.7.0//NONSGML v1.0//EN
CALSCALE:GREGORIAN
METHOD:PUBLISH
X-WR-CALNAME:Narodna knjižnica Ploče
X-ORIGINAL-URL:https://knjiznice.nsk.hr/ploce
X-WR-CALDESC:Događaji za Narodna knjižnica Ploče
BEGIN:VTIMEZONE
TZID:Europe/Zagreb
BEGIN:DAYLIGHT
TZOFFSETFROM:+0100
TZOFFSETTO:+0200
TZNAME:CEST
DTSTART:20170326T010000
END:DAYLIGHT
BEGIN:STANDARD
TZOFFSETFROM:+0200
TZOFFSETTO:+0100
TZNAME:CET
DTSTART:20171029T010000
END:STANDARD
END:VTIMEZONE
BEGIN:VEVENT
DTSTART;TZID=Europe/Zagreb:20171024T190000
DTEND;TZID=Europe/Zagreb:20171024T200000
DTSTAMP:20260421T020925
CREATED:20171024T062320Z
LAST-MODIFIED:20171024T062320Z
UID:2925-1508871600-1508875200@knjiznice.nsk.hr
SUMMARY:Solidarity walk 4 km/h
DESCRIPTION:GORAN BLAŽEVIĆ – SOLIDARITY WALK 4 KM/H \n 3300 kilometara pješice po izbjegličkoj ruti \nPutopisno predavanje pod nazivom „Solidarity Walk 4km/h“ donosi priču o putovanju pješice dugom preko 3000 kilometara. Krajem 2016. godine Goran Blažević je krenuo na put tijekom kojeg je hodao od Petre u Jordanu do rodnog Umaga\, noseći poruku mira i solidarnosti. Iskustva sa svog petomjesečnog hodanja pretočio je u knjigu pod nazivom „Svilim.“ \nTijekom pet mjeseci hodanja Goran je iz uzavrele pustinje stigao do ledenih planina da bi nasposljetku izbio na Jadransko more. Na put je krenuo sam\, bez ikakve logistike i sponzora\, naoružan samo dobrom voljom i željom da pošalje poruku mira i solidarnosti. Namjera mu je bila pratiti puteve po kojima su se kretale izbjeglice iz Sirije i Iraka. Prehodao je Jordan\, Palestinu\, Izrael\, Cipar\, Tursku\, Grčku\, Makedoniju\, Albaniju\, Crnu Goru i Hrvatsku\, pješačeći do Umaga. \nPutopisno predavanje bit će popraćeno fotografijama i video zapisima s Goranovog putovanja. \n 
URL:https://knjiznice.nsk.hr/ploce/event/solidarity-walk-4-kmh/
LOCATION:Narodna knjižnica Ploče\, Vladimira Nazora 12/A\, Ploče\, 20340\, Hrvatska
CATEGORIES:Događanja za odrasle,Promocija knjige
END:VEVENT
END:VCALENDAR