BEGIN:VCALENDAR
VERSION:2.0
PRODID:-//Narodna knjižnica Ploče - ECPv5.7.0//NONSGML v1.0//EN
CALSCALE:GREGORIAN
METHOD:PUBLISH
X-WR-CALNAME:Narodna knjižnica Ploče
X-ORIGINAL-URL:https://knjiznice.nsk.hr/ploce
X-WR-CALDESC:Događaji za Narodna knjižnica Ploče
BEGIN:VTIMEZONE
TZID:Europe/Zagreb
BEGIN:DAYLIGHT
TZOFFSETFROM:+0100
TZOFFSETTO:+0200
TZNAME:CEST
DTSTART:20240331T010000
END:DAYLIGHT
BEGIN:STANDARD
TZOFFSETFROM:+0200
TZOFFSETTO:+0100
TZNAME:CET
DTSTART:20241027T010000
END:STANDARD
END:VTIMEZONE
BEGIN:VEVENT
DTSTART;TZID=Europe/Zagreb:20240320T180000
DTEND;TZID=Europe/Zagreb:20240320T200000
DTSTAMP:20260420T222004
CREATED:20240315T080219Z
LAST-MODIFIED:20240403T141018Z
UID:9057-1710957600-1710964800@knjiznice.nsk.hr
SUMMARY:Radionica pletenja maslinovih grančica
DESCRIPTION:Ususret Uskrsu organizirali smo kreativnu radionicu pletenja maslinovih grančica koju vodi Duška Vizintini. \nRadionica je namijenjena odraslima\, a sav pribor i materijal je osiguran. \nBroj polaznika je ograničen i potrebno se prijaviti na info-pultu ili broj telefona knjižnice (020 676 393). \nSrijeda\, 20. 3. 2024. u 18:00 sati. \n                                                           \n 
URL:https://knjiznice.nsk.hr/ploce/event/radionicu-pletenja-maslinovih-grancica/
LOCATION:Narodna knjižnica Ploče\, Vladimira Nazora 12/A\, Ploče\, 20340\, Hrvatska
CATEGORIES:Događanja za odrasle,Radionica za odrasle
END:VEVENT
END:VCALENDAR