BEGIN:VCALENDAR
VERSION:2.0
PRODID:-//Narodna knjižnica Ploče - ECPv5.7.0//NONSGML v1.0//EN
CALSCALE:GREGORIAN
METHOD:PUBLISH
X-WR-CALNAME:Narodna knjižnica Ploče
X-ORIGINAL-URL:https://knjiznice.nsk.hr/ploce
X-WR-CALDESC:Događaji za Narodna knjižnica Ploče
BEGIN:VTIMEZONE
TZID:Europe/Zagreb
BEGIN:DAYLIGHT
TZOFFSETFROM:+0100
TZOFFSETTO:+0200
TZNAME:CEST
DTSTART:20160327T010000
END:DAYLIGHT
BEGIN:STANDARD
TZOFFSETFROM:+0200
TZOFFSETTO:+0100
TZNAME:CET
DTSTART:20161030T010000
END:STANDARD
END:VTIMEZONE
BEGIN:VEVENT
DTSTART;TZID=Europe/Zagreb:20160127T180000
DTEND;TZID=Europe/Zagreb:20160127T190000
DTSTAMP:20260420T204940
CREATED:20160125T085955Z
LAST-MODIFIED:20160125T085955Z
UID:855-1453917600-1453921200@knjiznice.nsk.hr
SUMMARY:Radionica izrade maski
DESCRIPTION:Pozivamo djecu na radionicu izrade maski u SRIJEDU\, 27.1.2016. u 18 h. \nVoditeljice radionice su učiteljice Goga i Duška. \nNa radionicu je potrebno donijeti PRIBOR ZA REZANJE i LIJEPLJENJE!
URL:https://knjiznice.nsk.hr/ploce/event/radionica-izrade-maski/
LOCATION:Narodna knjižnica Ploče\, Vladimira Nazora 12/A\, Ploče\, 20340\, Hrvatska
CATEGORIES:Događanja za djecu
END:VEVENT
END:VCALENDAR