BEGIN:VCALENDAR
VERSION:2.0
PRODID:-//Narodna knjižnica Ploče - ECPv5.7.0//NONSGML v1.0//EN
CALSCALE:GREGORIAN
METHOD:PUBLISH
X-WR-CALNAME:Narodna knjižnica Ploče
X-ORIGINAL-URL:https://knjiznice.nsk.hr/ploce
X-WR-CALDESC:Događaji za Narodna knjižnica Ploče
BEGIN:VTIMEZONE
TZID:Europe/Zagreb
BEGIN:DAYLIGHT
TZOFFSETFROM:+0100
TZOFFSETTO:+0200
TZNAME:CEST
DTSTART:20210328T010000
END:DAYLIGHT
BEGIN:STANDARD
TZOFFSETFROM:+0200
TZOFFSETTO:+0100
TZNAME:CET
DTSTART:20211031T010000
END:STANDARD
END:VTIMEZONE
BEGIN:VEVENT
DTSTART;TZID=Europe/Zagreb:20210707T140000
DTEND;TZID=Europe/Zagreb:20210707T153000
DTSTAMP:20260420T132314
CREATED:20210702T121308Z
LAST-MODIFIED:20210723T101654Z
UID:5537-1625666400-1625671800@knjiznice.nsk.hr
SUMMARY:Radionica 3D ispisa
DESCRIPTION:Nakon dolaska popularnog STEM auta i radionice s micro:Maqueen robotima\, vrijeme je za 3D printanje.\n \nNa radionici ćemo se uvesti u temu tehnologije 3D ispisa\, upoznati Original Prusa MINI+ pisač te istražiti online baze 3D modela (Thingiverse\, Youmagine\, Pinshape \, Cults). Broj polaznika je ograničen pa se nemojte zaboraviti prijaviti. To možete učiniti kao i inače\, osobno na info-pultu knjižnice\, pozivom na br. telefona 020 676 393 ili e-mailom na narodna-knjiznica-ploce@h-1.hr. \nRadionica će se održati u Narodnoj knjižnici Ploče\, u srijedu\, 7. 7. 2021. s početkom u 14 sati.\nU slučaju većeg broja prijava održat će se još jedna radionica isti dan u kasnijem terminu\, a u planu je još radionica ove vrste pa pratite naše obavijesti. \nKorisno je i posjetiti micro:bit kutak koji smo odvojili za ovakve teme na našoj stranici (još ga nadograđujemo pa budite slobodni dati prijedloge ili primjedbe kako bi ga što bolje prilagodili korisnicima). \n3D pisač Original Prusa MINI donacija je Instituta za razvoj i inovativnost mladih (IRIM)\, a na njihovom portalu Izradi! naći ćete i edukacijske materijale vezane uz tehnologiju 3D ispisa.
URL:https://knjiznice.nsk.hr/ploce/event/radionica-3d-ispisa/
LOCATION:Narodna knjižnica Ploče\, Vladimira Nazora 12/A\, Ploče\, 20340\, Hrvatska
ATTACH;FMTTYPE=image/jpeg:https://knjiznice.nsk.hr/ploce/wp-content/uploads/sites/74/2021/07/3D-printer_plakat.jpg
END:VEVENT
END:VCALENDAR