BEGIN:VCALENDAR
VERSION:2.0
PRODID:-//Narodna knjižnica Ploče - ECPv5.7.0//NONSGML v1.0//EN
CALSCALE:GREGORIAN
METHOD:PUBLISH
X-WR-CALNAME:Narodna knjižnica Ploče
X-ORIGINAL-URL:https://knjiznice.nsk.hr/ploce
X-WR-CALDESC:Događaji za Narodna knjižnica Ploče
BEGIN:VTIMEZONE
TZID:Europe/Zagreb
BEGIN:DAYLIGHT
TZOFFSETFROM:+0100
TZOFFSETTO:+0200
TZNAME:CEST
DTSTART:20250330T010000
END:DAYLIGHT
BEGIN:STANDARD
TZOFFSETFROM:+0200
TZOFFSETTO:+0100
TZNAME:CET
DTSTART:20251026T010000
END:STANDARD
END:VTIMEZONE
BEGIN:VEVENT
DTSTART;TZID=Europe/Zagreb:20250224T190000
DTEND;TZID=Europe/Zagreb:20250224T200000
DTSTAMP:20260423T001146
CREATED:20250220T070047Z
LAST-MODIFIED:20250220T084859Z
UID:9623-1740423600-1740427200@knjiznice.nsk.hr
SUMMARY:"Putešestvije po Turkestanu"
DESCRIPTION: \n \nNarodna knjižnica Ploče s ponosom vas poziva na uzbudljivo putopisno predavanje i predstavljanje knjige “Putešestvije po Turkestanu” autora Hrvoja Rupčića.\n\n\n \n Datum: 24. veljače 2025.\n Vrijeme: 19:00\n Mjesto: Narodna knjižnica Ploče\n\n \n \nHrvoje Rupčić\, glazbenik\, putnik i avanturist\, vodi nas na nezaboravno putovanje kroz srce Srednje Azije – od Kirgistana\, Uzbekistana do Tadžikistana i Turkmenistana. Kroz priče\, fotografije i autentične doživljaje\, otkrit ćete čaroliju Orijenta\, stare karavanske putove\, spektakularne pejzaže i gostoljubive ljude ovog fascinantnog dijela svijeta.\n \n\nO KNJIZI (izvor VBZ): \nPutešestvije po Turkestanu – Hrvoje Rupčić \nZanos nepreglednih stepa\, sloboda Kirgistana\, surova priroda Tadžikistana\, vrhovi perzijskog krova svijeta\, Pamira\, uzbekistanska drevna naselja\, čvorišta i gradovi Puta svile\, prelazak pustinje prema Kaspijskom moru\, turbulentni Kavkaz\, omamljujuća Turska… Dvanaest država\, 15 000 kilometara\, sve u 38 dana. \nKad bi se nagovori za čitanje mogli prevesti na ritam udaraljki\, tako bi nekako zvučao poziv na veliko putovanje s Hrvojem Rupčićem\, čarobnjakom konga bubnjeva i ništa manje zavodljivim i uspješnim putopisnim pripovjedačem. Ovaj put\, nakon zapaženog i rado čitanog putopisa „U zemlji plemenitih ljudi” (uz hrvatsko\, objavljeno je i iransko izdanje)\, Hrvoje i njegova družica Ivana priredili su novo štivo sa zapisima s njihova putovanja u srce Središnje Azije\, krajeve čija su imena država već dovoljna da nas suoče s vlastitim i zapadnjačkim umom omeđenim neznanjem. \nHrvoje zna kako prijeći preko te granice\, kako se otvoriti i zbližiti s drugima\, kako u sve tamnijoj slici svijeta putovati i vratiti se s osmijehom čiste sreće. \nČitatelj\, koji zajedno s njim otpusti kvačilo i doda gas\, može biti siguran da mu zadovoljstva sigurno neće nedostajati. \n\n \nPridružite nam se na večeri ispunjenoj pričama o dalekim krajevima\, nepredvidivim avanturama i neiscrpnoj znatiželji za svijetom.\n \nVidimo se!
URL:https://knjiznice.nsk.hr/ploce/event/putesestvije-po-turkestanu/
LOCATION:Narodna knjižnica Ploče\, Vladimira Nazora 12/A\, Ploče\, 20340\, Hrvatska
CATEGORIES:Događanja za odrasle,Putopisno predavanje
ATTACH;FMTTYPE=image/jpeg:https://knjiznice.nsk.hr/ploce/wp-content/uploads/sites/74/2025/02/putesestvije2-1920x700-1.jpg
END:VEVENT
END:VCALENDAR