BEGIN:VCALENDAR
VERSION:2.0
PRODID:-//Narodna knjižnica Ploče - ECPv5.7.0//NONSGML v1.0//EN
CALSCALE:GREGORIAN
METHOD:PUBLISH
X-WR-CALNAME:Narodna knjižnica Ploče
X-ORIGINAL-URL:https://knjiznice.nsk.hr/ploce
X-WR-CALDESC:Događaji za Narodna knjižnica Ploče
BEGIN:VTIMEZONE
TZID:Europe/Zagreb
BEGIN:DAYLIGHT
TZOFFSETFROM:+0100
TZOFFSETTO:+0200
TZNAME:CEST
DTSTART:20230326T010000
END:DAYLIGHT
BEGIN:STANDARD
TZOFFSETFROM:+0200
TZOFFSETTO:+0100
TZNAME:CET
DTSTART:20231029T010000
END:STANDARD
END:VTIMEZONE
BEGIN:VEVENT
DTSTART;TZID=Europe/Zagreb:20230310T100000
DTEND;TZID=Europe/Zagreb:20230310T110000
DTSTAMP:20260422T150301
CREATED:20230307T071105Z
LAST-MODIFIED:20230307T071105Z
UID:7856-1678442400-1678446000@knjiznice.nsk.hr
SUMMARY:Predstava "U kralja od Norina"
DESCRIPTION:Pozivamo na predstavu koju će u petak izvesti u našoj knjižnici vrtićani Dječjeg vrtića Ploče. \nSkupina Pčelice dramskim će izričajem oživjeti lik neretvanskog kralja Norina koji je imao glavu od gudina\, noge od kenjca i kozje uši. \n \nPoseban program folklora za djecu predškolske dobi Dječjeg vrtića Ploče\, odgojiteljica Željana Radonić \nPetak\, 10.3.2023. u 10:00h\, Narodna knjižnica Ploče
URL:https://knjiznice.nsk.hr/ploce/event/predstava-u-kralja-od-norina/
LOCATION:Narodna knjižnica Ploče\, Vladimira Nazora 12/A\, Ploče\, 20340\, Hrvatska
CATEGORIES:Događanja za djecu,Predstava
ATTACH;FMTTYPE=image/jpeg:https://knjiznice.nsk.hr/ploce/wp-content/uploads/sites/74/2023/03/najava_U-kralja-od-Norina.jpg
END:VEVENT
END:VCALENDAR