BEGIN:VCALENDAR
VERSION:2.0
PRODID:-//Narodna knjižnica Ploče - ECPv5.7.0//NONSGML v1.0//EN
CALSCALE:GREGORIAN
METHOD:PUBLISH
X-WR-CALNAME:Narodna knjižnica Ploče
X-ORIGINAL-URL:https://knjiznice.nsk.hr/ploce
X-WR-CALDESC:Događaji za Narodna knjižnica Ploče
BEGIN:VTIMEZONE
TZID:Europe/Zagreb
BEGIN:DAYLIGHT
TZOFFSETFROM:+0100
TZOFFSETTO:+0200
TZNAME:CEST
DTSTART:20190331T010000
END:DAYLIGHT
BEGIN:STANDARD
TZOFFSETFROM:+0200
TZOFFSETTO:+0100
TZNAME:CET
DTSTART:20191027T010000
END:STANDARD
END:VTIMEZONE
BEGIN:VEVENT
DTSTART;TZID=Europe/Zagreb:20191017T190000
DTEND;TZID=Europe/Zagreb:20191017T200000
DTSTAMP:20260420T123610
CREATED:20191014T143838Z
LAST-MODIFIED:20191014T145841Z
UID:3269-1571338800-1571342400@knjiznice.nsk.hr
SUMMARY:Kako zacijeliti povrede iz djetinjstva?
DESCRIPTION:Zadovoljstvo nam je u sklopu Mjeseca hrvatske knjige 2019. najaviti predavanje Olivere Drutter\, integrativne terapeutkinje\, pod nazivom “Kako zacijeliti povrede iz djetinjstva”. Integrativna terapija postoji preko sto godina\, a kod nas je postala popularna u zadnjih desetak godina. Nastala je spajanjem više psihoterapeutskih pravaca i u svom radu dodaje duhovnost kao neizostavni dio naše cjeline. Integrativni terapeut radi na svim vašim razinama bića – mentalna\, emocionalna\, tjelesna i duhovna. \n \nEvo što o predavanju kaže sama Olivera: \nKako zacijeliti povrede iz djetinjstva u odrasloj dobi\, metodama tjelesno orijentirane terapije (CIR metoda)\nKada pričamo o nekoj osobnoj problematici koja nam se u životu stalno iznova vraća u različitim odnosima i situacijama\, osjetimo bespomoćnost i frustraciju našeg Unutarnjeg djeteta. Neovisno o tome koliko nam je godina svi mi imamo Unutarnje dijete ali ga nismo svjesni. Nekada okolina prepozna i zrcali prisutnost Unutarnjeg djeteta kod nas i kažu nam ”Ponašaš se kao dijete od pet godina” ili “Imaš dušu djeteta”. \nVrlo često iz pozicije nezrelog unutarnjeg djeteta donosimo odluke i ulazimo u kontakte koji nisu dobri za nas. Rezultati takvih odnosa su autodestruktivni/destruktivni i vode ka nezadovoljstvu\, depresiji\, ovisnostima\, osjećaju nesigurnosti\, anksioznosti\, agresiji i sl. \nUnutarnje dijete\nNaše Unutarnje dijete puno je više od nezrelosti. Ono ima cijeli dijapazon intenzivnih osjećaja – radosti i boli\, sreće i tuge. Unutarnje dijete funkcionira u modusu desne strane mozga: postojanja\, osjećanja i doživljavanja. Zanemarivanjem naših potreba\, osjećaja\, viđenja i uvažavanja našeg Unutarnjeg djeteta\, mi se odričemo najboljih dijelova sebe. Vrlo često zanemarujemo i negiramo sebe/Unutarnje dijete onako kako su to činile odrasle osobe u našem djetinjstvu. \nAko smo kao djeca imali iskustvo napuštenosti\, podređenosti\, kritiziranosti ili zanemarivanja\, često u odrasloj dobi projiciramo na druge da će nas povrijediti a nesvjesni da sami sebe napuštamo. \nIz straha da ne doživimo ponovo povrede iz djetinjstva\, razvijamo potrebu za savršenstvom i na taj način još više se udaljimo od Unutarnjeg djeteta. \nNaše Unutarnje dijete ima kvalitete kao što su: kreativnost\, razigranost\, znatiželja\, nesputanost\, veselje\, privrženost\, taktilnost\, nježnost\, upornost\, prisutnost i još puno toga. Ovo su kvalitete koje naša odraslost treba ako želimo više osjećaja slobode\, odvažnosti\, ljubavi i novina u životu. Korijen odraslosti treba srce i krila djeteta. \nDok ne steknemo namjeru da učimo od svojeg Unutarnjeg djeteta\, nećemo izliječiti unutarnju izolaciju\, bol\, odbačenost\, neviđenost i nećemo postati cjeloviti. \nOsjećamo se samima kad nismo povezani sa sobom\, a onda se osjećamo osamljeno jer se ne možemo povezati s drugima. Ne možemo voljeti druge ništa više nego što volimo sebe i ne možemo prihvatiti tuđu ljubav dok ne prihvatimo vlastitu. S toga\, dođite na predavanje i saznajte kako upoznati\, prihvatiti i zavoljeti svoje Unutarnje dijete. Povedite svoje radoznalo dijete i saznajte kako od njega možete naučiti puno o sebi\, o stvarnom JA. \nCentar za integrativni razvoj\nCentar za integrativni razvoj je prva škola koja se bavi područjem osobnog razvoja kroz četverogodišnji program integrativne – tjelesno orijentirane terapije i duhovnosti u Hrvatskoj i u ovome dijelu Europe.  \nOvo javno predavanje je ujedno i najava za otvaranje škole Centar za Integrativni Razvoj (CIR) Dubrovnik. Škola kao takva postoji već 19 godina u Zagrebu\, Splitu\, nešto kraće i u Budimpešti\, Rijeci. Za sve koji žele više saznati o mom osobnom radu ili vas zanima upis u školu CIR\, stojim na raspolaganju nakon predavanja. \nZa sve informacije možete me kontaktirati na 091 586 8107 ili putem mail: oledrutter@yahoo.com. \nO meni možete pročitati na www.oliveradrutter.com. \nO CIR školi www.cir.hr. \nVaša Olivera
URL:https://knjiznice.nsk.hr/ploce/event/predavanje-olivere-drutter/
LOCATION:Narodna knjižnica Ploče\, Vladimira Nazora 12/A\, Ploče\, 20340\, Hrvatska
CATEGORIES:Događanja za odrasle
END:VEVENT
END:VCALENDAR