BEGIN:VCALENDAR
VERSION:2.0
PRODID:-//Narodna knjižnica Ploče - ECPv5.7.0//NONSGML v1.0//EN
CALSCALE:GREGORIAN
METHOD:PUBLISH
X-WR-CALNAME:Narodna knjižnica Ploče
X-ORIGINAL-URL:https://knjiznice.nsk.hr/ploce
X-WR-CALDESC:Događaji za Narodna knjižnica Ploče
BEGIN:VTIMEZONE
TZID:Europe/Zagreb
BEGIN:DAYLIGHT
TZOFFSETFROM:+0100
TZOFFSETTO:+0200
TZNAME:CEST
DTSTART:20200329T010000
END:DAYLIGHT
BEGIN:STANDARD
TZOFFSETFROM:+0200
TZOFFSETTO:+0100
TZNAME:CET
DTSTART:20201025T010000
END:STANDARD
END:VTIMEZONE
BEGIN:VEVENT
DTSTART;TZID=Europe/Zagreb:20200731T100000
DTEND;TZID=Europe/Zagreb:20200731T110000
DTSTAMP:20260422T084038
CREATED:20200728T121538Z
LAST-MODIFIED:20200727T123122Z
UID:4101-1596189600-1596193200@knjiznice.nsk.hr
SUMMARY:Osnove digitalnog stvaralaštva uz micro:bit (2)
DESCRIPTION:Zbog velikog interesa za radionicu (i micro:bitove) ponavljamo prošlotjednu radionicu: \nPredstavit ćemo novi IRIM-ov koncept učenja programiranja s micro:bitom. Novost je i priručnik za učenje “Osnove digitalnog stvaralaštva uz micro:bit” koji na jednostavan i pregledan način omogućava upoznavanje micro:bita i osnove rada s njime\, korak po korak sa slikama i primjerima. Dobrodošli su i oni koji već imaju iskustva u programiranju s micro:bitom\, ali i početnici. \nRadionica: Osnove digitalnog stvaralaštva uz micro:bit \nVrijeme i mjesto: Petak\, 31. 07. 2020. u 10 h\, Narodna knjižnica Ploče \nUzrast: Osnovnoškolci \nPredznanje: Nije potrebno \nPrijave: Osobno u knjižnici\, na br. telefona 020 676 323 ili e-mail knjižnice narodna-knjiznica-ploce@h-1.hr \nVoditeljica: Tena Zmijarević \nNapominjemo da je priručnik “Osnove digitalnog stvaralaštva uz micro:bit” dostupan u našoj Knjižnici za posudbu (jedan je primjerak uvijek raspoloživ u čitaonici Dječjeg odjela)\, kao i micro:bitovi (Posudi i isprobaj!).  
URL:https://knjiznice.nsk.hr/ploce/event/osnove-digitalnog-stvaralastva-uz-microbit-2/
LOCATION:Narodna knjižnica Ploče\, Vladimira Nazora 12/A\, Ploče\, 20340\, Hrvatska
CATEGORIES:Događanja za djecu
ATTACH;FMTTYPE=image/jpeg:https://knjiznice.nsk.hr/ploce/wp-content/uploads/sites/74/2020/07/microbit_2020_07_31-scaled.jpg
END:VEVENT
END:VCALENDAR