BEGIN:VCALENDAR
VERSION:2.0
PRODID:-//Narodna knjižnica Ploče - ECPv5.7.0//NONSGML v1.0//EN
CALSCALE:GREGORIAN
METHOD:PUBLISH
X-WR-CALNAME:Narodna knjižnica Ploče
X-ORIGINAL-URL:https://knjiznice.nsk.hr/ploce
X-WR-CALDESC:Događaji za Narodna knjižnica Ploče
BEGIN:VTIMEZONE
TZID:Europe/Zagreb
BEGIN:DAYLIGHT
TZOFFSETFROM:+0100
TZOFFSETTO:+0200
TZNAME:CEST
DTSTART:20200329T010000
END:DAYLIGHT
BEGIN:STANDARD
TZOFFSETFROM:+0200
TZOFFSETTO:+0100
TZNAME:CET
DTSTART:20201025T010000
END:STANDARD
END:VTIMEZONE
BEGIN:VEVENT
DTSTART;TZID=Europe/Zagreb:20200730T100000
DTEND;TZID=Europe/Zagreb:20200730T113000
DTSTAMP:20260420T211704
CREATED:20200727T140823Z
LAST-MODIFIED:20200730T064737Z
UID:4104-1596103200-1596108600@knjiznice.nsk.hr
SUMMARY:Origami radionica
DESCRIPTION:Origami je (japansko) umijeće savijanja papira. U njemu uživaju i djeca i odrasli\, bilo da su početnici ili već pravi origami majstori kroz čije su ruke prošli mnogi papiri i pretvorili se u avione\, ptice\, vjeverice\, srca\, knjige\, zmajeve… Na radionicama u Narodnoj knjižnici Ploče većinom se rade jednostavniji modeli\, prikladni i za početnike (ima modela koje su radila djeca od 3 godine!). \n \nRadionica će se održati u četvrtak\, 30. 7. 2020. s početkom u 10 sati\, a na kraju radionice sve prisutne očekuje i malo iznenađenje. \nBroj sudionika je ograničen i potrebno se prijaviti! \nPrijave: Osobno u knjižnici\, na br. telefona 020 676 323 ili e-mail knjižnice narodna-knjiznica-ploce@h-1.hr \nVoditeljica: Tena Zmijarević
URL:https://knjiznice.nsk.hr/ploce/event/origami-radionica-2/
LOCATION:Narodna knjižnica Ploče\, Vladimira Nazora 12/A\, Ploče\, 20340\, Hrvatska
CATEGORIES:Događanja za djecu,Događanja za odrasle
ATTACH;FMTTYPE=image/jpeg:https://knjiznice.nsk.hr/ploce/wp-content/uploads/sites/74/2020/07/ljetna-radionica-2020_07_30-1-scaled.jpg
END:VEVENT
END:VCALENDAR