BEGIN:VCALENDAR
VERSION:2.0
PRODID:-//Narodna knjižnica Ploče - ECPv5.7.0//NONSGML v1.0//EN
CALSCALE:GREGORIAN
METHOD:PUBLISH
X-WR-CALNAME:Narodna knjižnica Ploče
X-ORIGINAL-URL:https://knjiznice.nsk.hr/ploce
X-WR-CALDESC:Događaji za Narodna knjižnica Ploče
BEGIN:VTIMEZONE
TZID:Europe/Zagreb
BEGIN:DAYLIGHT
TZOFFSETFROM:+0100
TZOFFSETTO:+0200
TZNAME:CEST
DTSTART:20200329T010000
END:DAYLIGHT
BEGIN:STANDARD
TZOFFSETFROM:+0200
TZOFFSETTO:+0100
TZNAME:CET
DTSTART:20201025T010000
END:STANDARD
END:VTIMEZONE
BEGIN:VEVENT
DTSTART;TZID=Europe/Zagreb:20201107T100000
DTEND;TZID=Europe/Zagreb:20201107T110000
DTSTAMP:20260422T150301
CREATED:20201104T125407Z
LAST-MODIFIED:20201105T122517Z
UID:4575-1604743200-1604746800@knjiznice.nsk.hr
SUMMARY:Lutkarska predstava "Park 52"
DESCRIPTION:Pozivamo sve zainteresirane (od 6 i više godina) na lutkarsku predstavu “Park 52”. \nZanimljivo je da su cijela scenografija i lutke napravljene od otpadnog kartona. Ova predstava savršen je primjer kako se reciklažom i ponovom uporabom (otpadnog) materijala može stvoriti nešto lijepo i korisno\, te podiže svijest o važnosti očuvanja prirode i pravilnog upravljanja otpadom. Kako i sama tema predstave ima pozitivnu ekološku i društvenu poruku\, smatrali smo je i više nego prikladnom za ovogodišnji Mjesec hrvatske knjige\, koji je posvećen planetu Zemlji\, u povodu 50. obljetnice obilježavanja Dana planeta Zemlje. \nPredstava će se održati u Domu kulture Ploče\, u subotu\, 7. studenog u 10 sati. \n \nOvu lutkarsku predstavu za male i velike pripremila je glumica-lutkarica Božena Delaš\, prema slikovnici “Ponoć u parku 52” autorice Vanje Marković.\nPredstava je nastala u sklopu projekta “Zeleni val” Komunalnog održavanja Ploče.
URL:https://knjiznice.nsk.hr/ploce/event/lutkarska-predstava-park-52/
LOCATION:Dom kulture Ploče\, Silvija Strahimira Kranjčevića 4\, Ploče\, Dubrovačko-neretvanska županija\, 20340\, Croatia (Local Name: Hrvatska)
CATEGORIES:Događanja za djecu,Događanja za odrasle
ATTACH;FMTTYPE=image/jpeg:https://knjiznice.nsk.hr/ploce/wp-content/uploads/sites/74/2020/11/Park-52_sm-1.jpg
END:VEVENT
END:VCALENDAR