BEGIN:VCALENDAR
VERSION:2.0
PRODID:-//Narodna knjižnica Ploče - ECPv5.7.0//NONSGML v1.0//EN
CALSCALE:GREGORIAN
METHOD:PUBLISH
X-WR-CALNAME:Narodna knjižnica Ploče
X-ORIGINAL-URL:https://knjiznice.nsk.hr/ploce
X-WR-CALDESC:Događaji za Narodna knjižnica Ploče
BEGIN:VTIMEZONE
TZID:Europe/Zagreb
BEGIN:DAYLIGHT
TZOFFSETFROM:+0100
TZOFFSETTO:+0200
TZNAME:CEST
DTSTART:20230326T010000
END:DAYLIGHT
BEGIN:STANDARD
TZOFFSETFROM:+0200
TZOFFSETTO:+0100
TZNAME:CET
DTSTART:20231029T010000
END:STANDARD
END:VTIMEZONE
BEGIN:VEVENT
DTSTART;TZID=Europe/Zagreb:20230215T180000
DTEND;TZID=Europe/Zagreb:20230215T190000
DTSTAMP:20260422T141756
CREATED:20230213T081854Z
LAST-MODIFIED:20230213T083159Z
UID:7809-1676484000-1676487600@knjiznice.nsk.hr
SUMMARY:Ljubav kakvu želim
DESCRIPTION:Pozivamo vas na (tradicionalnu) glazbeno-poetsku večer učenika Osnovne škole “Vladimir Nazor” Ploče povodom Valentinova u Narodnoj knjižnici Ploče.\n Program pod nazivom “Ljubav kakvu želim” održat će se u srijedu\, 15. veljače s početkom u 18:00 h. \n \nOrganizatorice: učiteljice hrvatskog jezika (Marina Burđelez\, Ivana Pudar Pećar i Marijana Gluščević)
URL:https://knjiznice.nsk.hr/ploce/event/ljubav-kakvu-zelim/
LOCATION:Narodna knjižnica Ploče\, Vladimira Nazora 12/A\, Ploče\, 20340\, Hrvatska
CATEGORIES:Događanja za djecu,Poetsko-glazbena večer,Večer poezije
END:VEVENT
END:VCALENDAR