BEGIN:VCALENDAR
VERSION:2.0
PRODID:-//Narodna knjižnica Ploče - ECPv5.7.0//NONSGML v1.0//EN
CALSCALE:GREGORIAN
METHOD:PUBLISH
X-WR-CALNAME:Narodna knjižnica Ploče
X-ORIGINAL-URL:https://knjiznice.nsk.hr/ploce
X-WR-CALDESC:Događaji za Narodna knjižnica Ploče
BEGIN:VTIMEZONE
TZID:Europe/Zagreb
BEGIN:DAYLIGHT
TZOFFSETFROM:+0100
TZOFFSETTO:+0200
TZNAME:CEST
DTSTART:20230326T010000
END:DAYLIGHT
BEGIN:STANDARD
TZOFFSETFROM:+0200
TZOFFSETTO:+0100
TZNAME:CET
DTSTART:20231029T010000
END:STANDARD
END:VTIMEZONE
BEGIN:VEVENT
DTSTART;TZID=Europe/Zagreb:20231016T180000
DTEND;TZID=Europe/Zagreb:20231016T190000
DTSTAMP:20260422T141756
CREATED:20231014T114034Z
LAST-MODIFIED:20231013T114838Z
UID:8638-1697479200-1697482800@knjiznice.nsk.hr
SUMMARY:Književna večer s Đurđicom Čilić
DESCRIPTION:Još malo i počinje Mjesec hrvatske knjige 2023. U ponedjeljak nam u goste dolazi  polonistica\, prevoditeljica i književnica Đurđica Čilić\, koja će nam predstaviti svoje zbirke priča “Fafarikul” i “Novi kraj”. \n  \nO autorici\nĐurđica Čilić rođena je 1975. godine u Livnu\, u BiH\, odrasla u Vitezu. Docentica je na Katedri za poljski jezik i književnost Filozofskog fakulteta u Zagrebu i izvodi kolegije iz poljske književnosti\, prevođenja i teorije književnosti. Godine 2010. obranila je doktorski rad pod naslovom “Oblikovanje autora u poeziji Czesława Miłosza i Tadeusza Różewicza”. Piše stručne i znanstvene radove o poljskoj književnosti 19. i 20. stoljeća\, književne recenzije te prevodi s poljskoga jezika\, posebice poeziju. (preuzeto s https://disput.hr/) \n 
URL:https://knjiznice.nsk.hr/ploce/event/knjizevna-vecer-s-durdicom-cilic/
LOCATION:Narodna knjižnica Ploče\, Vladimira Nazora 12/A\, Ploče\, 20340\, Hrvatska
CATEGORIES:Događanja za odrasle,Predstavljanje knjige
END:VEVENT
END:VCALENDAR