BEGIN:VCALENDAR
VERSION:2.0
PRODID:-//Narodna knjižnica Ploče - ECPv5.7.0//NONSGML v1.0//EN
CALSCALE:GREGORIAN
METHOD:PUBLISH
X-WR-CALNAME:Narodna knjižnica Ploče
X-ORIGINAL-URL:https://knjiznice.nsk.hr/ploce
X-WR-CALDESC:Događaji za Narodna knjižnica Ploče
BEGIN:VTIMEZONE
TZID:Europe/Zagreb
BEGIN:DAYLIGHT
TZOFFSETFROM:+0100
TZOFFSETTO:+0200
TZNAME:CEST
DTSTART:20260329T010000
END:DAYLIGHT
BEGIN:STANDARD
TZOFFSETFROM:+0200
TZOFFSETTO:+0100
TZNAME:CET
DTSTART:20261025T010000
END:STANDARD
END:VTIMEZONE
BEGIN:VEVENT
DTSTART;TZID=Europe/Zagreb:20260325T183000
DTEND;TZID=Europe/Zagreb:20260325T193000
DTSTAMP:20260420T123016
CREATED:20260323T073936Z
LAST-MODIFIED:20260323T073936Z
UID:10249-1774463400-1774467000@knjiznice.nsk.hr
SUMMARY:"Kazališni sat"
DESCRIPTION:Pozivamo sve zainteresirane mališane da nam se pridruže i kroz igru i kreativno izražavanje upoznaju čarobni svijet kazališta! \n \nHrvatsku poruku za svjetski dan lutkarstva napisala je redateljica Tamara Kučinović\n\nLutkarstvo je jedan magičan\, nepredvidiv\, kreativan\, paket. To nije jednoznačan paket\, to nije paket koji se može ugurati u neki okvir\, u neki nazivnik. Tom paketu ne može se nalijepiti niti jedna etiketa. Taj je paket puno veći od toga. Ne pripada državi\, ne pripada mjestu\, ne pripada formi\, ne pripada čovjeku. Taj paket pripada duši. Ljudskoj duši oblikovanoj u simbol\, u suštinu\, u život. Lutkarstvo je danas\, kad je čovjek sve dalje od čovjeka\, možda sve bliže njegovoj suštini\, sve bliže životu\, sve bliže duši od bilo koje druge umjetnosti. Iz jednog skromnog razloga. Lutkarstvo je danas dom za sve umjetnosti. Spoj nekada možda nespojivih dimenzija\, danas je satkan u lutkarstvu. U njemu se griju\, spavaju i bude sve umjetnosti. Paket bez nazivlja. Paket u kojem duša spaja glumu\, lutku\, predmet\, materijal\, glazbu\, vizualnu umjetnost\, likovnu umjetnost\, pokret\, ples\, i sve još one nezamislive i moguće umjetnosti u jednu. Paket bez vremena i prostora\, povezan životom\, povezan suštinom\, povezan idejom nekog bića. Lutkarstvo je danas možda ispred svog vremena\, jer spaja ljude\, ne dijeli ih na naše i vaše\, na kruške i jabuke\, na crno i bijelo\, na granice. Lutkarstvo danas želi srušiti barijeru\, želi izbrisati granice\, i postati paket bez potrebe da ga se markira\, da ga se označava\, da ga se etiketira. Želi biti dječje kazalište za odrasle\, i odraslo kazalište za djecu. Želi biti kazalište za ljude. Za sve ljude. Bez dobnih granica\, bez razlika\, bez oznaka. Zato je lutkarstvo danas možda jedan od najljepših putokaza do suštine ljudskog bića\, do empatije\, do duše\, do zajedništva. A toga smo danas gladni. I možda je baš sada\, baš danas vrijeme da lutkarstvo postane most između ljudi i umjetnosti\, most koji spaja različite živote u jedan potpuno moguć život. I možda mu baš zato\, danas više nego ikad\, treba dati mogućnost da priča priče koje su važne\, koje su iskrene\, koje su ljudske\, koje su ozbiljne\, koje nas se tiču\, koje otvaraju i prihvaćaju\, koje njeguju ono što nam nedostaje. Ljudskost. Možda je sad vrijeme da ga prihvatimo kao takvog. Kao paket pun života. Pun različitosti. Sretan nam svjetski dan duše. \n\nPreuzeto sa: https://unima.hr/
URL:https://knjiznice.nsk.hr/ploce/event/kazalisni-sat/
LOCATION:Narodna knjižnica Ploče\, Vladimira Nazora 12/A\, Ploče\, 20340\, Hrvatska
CATEGORIES:Događanja za djecu,Kreativna radionica
END:VEVENT
END:VCALENDAR