BEGIN:VCALENDAR
VERSION:2.0
PRODID:-//Narodna knjižnica Ploče - ECPv5.7.0//NONSGML v1.0//EN
CALSCALE:GREGORIAN
METHOD:PUBLISH
X-WR-CALNAME:Narodna knjižnica Ploče
X-ORIGINAL-URL:https://knjiznice.nsk.hr/ploce
X-WR-CALDESC:Događaji za Narodna knjižnica Ploče
BEGIN:VTIMEZONE
TZID:Europe/Zagreb
BEGIN:DAYLIGHT
TZOFFSETFROM:+0100
TZOFFSETTO:+0200
TZNAME:CEST
DTSTART:20230326T010000
END:DAYLIGHT
BEGIN:STANDARD
TZOFFSETFROM:+0200
TZOFFSETTO:+0100
TZNAME:CET
DTSTART:20231029T010000
END:STANDARD
END:VTIMEZONE
BEGIN:VEVENT
DTSTART;TZID=Europe/Zagreb:20230218T113000
DTEND;TZID=Europe/Zagreb:20230218T123000
DTSTAMP:20260420T163845
CREATED:20230214T181959Z
LAST-MODIFIED:20230214T182458Z
UID:7822-1676719800-1676723400@knjiznice.nsk.hr
SUMMARY:Kako rastu djeca?
DESCRIPTION:S veseljem najavljujemo predstavu za djecu koja će se održati u našoj knjižnici\, u subotu\, 18. 2. s početkom u 11:30 h. Predstava je prikladna za djecu svih uzrasta\, a ulaz je (kao i uvijek kod nas) besplatan. \nO predstavi:\nRedatelj: Bojan Brajčić / Igra: Franjo Đaković / Stihovi: Grigor Vitez / Tekst i dramaturgija: Belmondo Miliša / Scenografija\, kostim i ilustracije: Tina Vukasović  / Glazba: Bojan Brajčić / Oblikovanje svjetla: Lucijan Roki \nGrigor Vitez začetnik je hrvatskog modernog pjesništva za djecu\, a njegovo ime nosi i najvažnija godišnja nagrada hrvatskim autorima za književni tekst i ilustraciju za djecu.\nVitezov poetski svijet djetinjstva glumac Franjo Đaković najmlađima donosi igrom\, naracijom\, sviranjem\, pjevanjem i korištenjem elemenata kamishibai teatra\, tradicionalnog japanskog putujućeg kazališta. \nMala i prilagodljiva forma ove predstave omogućuje njezino izvođenje u različitim prostorima\, od kazališta\, vrtića\, škola do ulica i trgova.  \nViše možete pročitati OVDJE. \n 
URL:https://knjiznice.nsk.hr/ploce/event/kako-rastu-djeca/
LOCATION:Narodna knjižnica Ploče\, Vladimira Nazora 12/A\, Ploče\, 20340\, Hrvatska
CATEGORIES:Događanja za djecu
ATTACH;FMTTYPE=image/jpeg:https://knjiznice.nsk.hr/ploce/wp-content/uploads/sites/74/2023/02/KakoRastuDjeca_plakat-Ploce.jpg
END:VEVENT
END:VCALENDAR