BEGIN:VCALENDAR
VERSION:2.0
PRODID:-//Narodna knjižnica Ploče - ECPv5.7.0//NONSGML v1.0//EN
CALSCALE:GREGORIAN
METHOD:PUBLISH
X-WR-CALNAME:Narodna knjižnica Ploče
X-ORIGINAL-URL:https://knjiznice.nsk.hr/ploce
X-WR-CALDESC:Događaji za Narodna knjižnica Ploče
BEGIN:VTIMEZONE
TZID:Europe/Zagreb
BEGIN:DAYLIGHT
TZOFFSETFROM:+0100
TZOFFSETTO:+0200
TZNAME:CEST
DTSTART:20230326T010000
END:DAYLIGHT
BEGIN:STANDARD
TZOFFSETFROM:+0200
TZOFFSETTO:+0100
TZNAME:CET
DTSTART:20231029T010000
END:STANDARD
END:VTIMEZONE
BEGIN:VEVENT
DTSTART;TZID=Europe/Zagreb:20231213T180000
DTEND;TZID=Europe/Zagreb:20231213T190000
DTSTAMP:20260420T084321
CREATED:20231211T141000Z
LAST-MODIFIED:20231211T150221Z
UID:8778-1702490400-1702494000@knjiznice.nsk.hr
SUMMARY:Jure Divić – "Mekoća"
DESCRIPTION:Ove srijede ugostit ćemo knjižničara\, pisca\, pjesnika\, novinara i fotografa Juru Divića. Razlog tome promocija je njegove nove knjige\, zbirke erotsko-ljubavnih pjesama“Mekoća”.\nRadi se o šestoj knjizi ovog vrgorskog autora\, od čega trećoj zbirci poezije. \n \nU „Mekoći“ se nalazi 48 pjesama koje su nastajale proteklih desetljeća\, posložene u tri ciklusa u sklopu kojih ipak djeluju kao koherentna i logična cjelina. Teme oko kojih se vrti cijela zbirka – ljubav i eros\, vrlo su bliske Juri Diviću i on\, kako u predgovoru ističe Antonija Galić\, u zbirci raskrinkava sebe\, svoje Ja određeno žudnjom\, tjelesnošću i erosom.\n(isječak iz teksta o knjizi\, preuzet s web stranica Društva prijatelja vrgorske starine) \nPromocija će se održati u srijedu 13. prosinca u 18 sati. \nO autoru:\nJure Divić (Takapuna\, Novi Zeland\, 1969.)\, hrvatski pisac\, novinar\, fotograf i glazbenik. Škole je završio u Belmontu\, Aucklandu (Novi Zeland)\, Vrgorcu i Mostaru (BiH). Novinar Hrvatske izvještajne novinske agencije (HINA). Višestruko je nagrađivan u tuzemstvu i inozemstvu (SAD\, Francuska) za svoj fotografski rad u području umjetničke fotografije. Izlagao na preko 20 samostalnih izložbi fotografija te preko 30 skupnih izložbi u zemlji i inozemstvu. \n\n2005.g. pjesma “Čuvam te” uvrštena mu je u antologiju najljepše hrvatske ljubavne poezije. (preuzeto sa stranica Knjižare Ljevak)
URL:https://knjiznice.nsk.hr/ploce/event/jure-divic-mekoca/
LOCATION:Narodna knjižnica Ploče\, Vladimira Nazora 12/A\, Ploče\, 20340\, Hrvatska
CATEGORIES:Događanja za odrasle
END:VEVENT
END:VCALENDAR