BEGIN:VCALENDAR
VERSION:2.0
PRODID:-//Narodna knjižnica Ploče - ECPv5.7.0//NONSGML v1.0//EN
CALSCALE:GREGORIAN
METHOD:PUBLISH
X-WR-CALNAME:Narodna knjižnica Ploče
X-ORIGINAL-URL:https://knjiznice.nsk.hr/ploce
X-WR-CALDESC:Događaji za Narodna knjižnica Ploče
BEGIN:VTIMEZONE
TZID:Europe/Zagreb
BEGIN:DAYLIGHT
TZOFFSETFROM:+0100
TZOFFSETTO:+0200
TZNAME:CEST
DTSTART:20150329T010000
END:DAYLIGHT
BEGIN:STANDARD
TZOFFSETFROM:+0200
TZOFFSETTO:+0100
TZNAME:CET
DTSTART:20151025T010000
END:STANDARD
END:VTIMEZONE
BEGIN:VEVENT
DTSTART;TZID=Europe/Zagreb:20151105T190000
DTEND;TZID=Europe/Zagreb:20151105T200000
DTSTAMP:20260422T110618
CREATED:20151104T084421Z
LAST-MODIFIED:20151104T084814Z
UID:685-1446750000-1446753600@knjiznice.nsk.hr
SUMMARY:Irena Orlović - predavanje
DESCRIPTION:Kako je nastala Pametnica i zašto su roditelji najvažnije karike u odgoju i obrazovanju djece?\n5.11.2015. (četvrtak) u 19 sati u Narodnoj knjižnici Ploče\n \nPametnica\nIrena Orlović mlada je urednica u nakladničkoj kući Harfa i autorica Pametnice. Pametnica je web-aplikacija u kojoj se nalazi više od 1000 različitih kreativnih materijala iz područja ranog poticanja intelektualnog razvoja\, a ideju za inovativnu aplikaciju dobila je kroz rad sa svojom kćeri Mateom\, djetetom s teškoćama u razvoju. Iako su liječnici dali ‘mračne’ prognoze\, zahvaljujući predanom radu na djetetovim emocionalnim\, kognitivnim i motoričkim sposobnostima u ranoj formativnoj fazi ostvaren je izniman napredak.
URL:https://knjiznice.nsk.hr/ploce/event/irena-orlovic-predavanje/
LOCATION:Narodna knjižnica Ploče\, Vladimira Nazora 12/A\, Ploče\, 20340\, Hrvatska
CATEGORIES:Događanja za odrasle
END:VEVENT
END:VCALENDAR