BEGIN:VCALENDAR
VERSION:2.0
PRODID:-//Narodna knjižnica Ploče - ECPv5.7.0//NONSGML v1.0//EN
CALSCALE:GREGORIAN
METHOD:PUBLISH
X-WR-CALNAME:Narodna knjižnica Ploče
X-ORIGINAL-URL:https://knjiznice.nsk.hr/ploce
X-WR-CALDESC:Događaji za Narodna knjižnica Ploče
BEGIN:VTIMEZONE
TZID:Europe/Zagreb
BEGIN:DAYLIGHT
TZOFFSETFROM:+0100
TZOFFSETTO:+0200
TZNAME:CEST
DTSTART:20150329T010000
END:DAYLIGHT
BEGIN:STANDARD
TZOFFSETFROM:+0200
TZOFFSETTO:+0100
TZNAME:CET
DTSTART:20151025T010000
END:STANDARD
END:VTIMEZONE
BEGIN:VEVENT
DTSTART;TZID=Europe/Zagreb:20150611T120000
DTEND;TZID=Europe/Zagreb:20150611T130000
DTSTAMP:20260420T210953
CREATED:20150608T165515Z
LAST-MODIFIED:20150630T151011Z
UID:143-1434024000-1434027600@knjiznice.nsk.hr
SUMMARY:Igrokaz "Balonijada"
DESCRIPTION:Igrokaz “Balonijada” (N. Iveljić) izvode učenici OŠ Gradac (II.\, III. i IV. razred).\nVoditeljica: učiteljica Ranka Radoš \nUčenici su s ovim igrokazom sudjelovali na Lidranu 2015. u Makarskoj na međuopćinskoj razini\,\ngdje su predloženi za sudjelovanje na Županijskoj smotri Lidrano 2015.  koje se održavalo u HNK Split.\nTakođer su sudjelovali i na prvoj Smotri dječjeg dramskog stvaralaštva Makarske rivijere u Makarskoj. \nNakon igrokaza slijedi Knjigraonica – “Pomozi životinjama da se vrate u svoj dom”.\nVoditeljica knjigraonice: učiteljica Jelena Mateljak
URL:https://knjiznice.nsk.hr/ploce/event/igrokaz-balonijada/
LOCATION:Narodna knjižnica Ploče\, Vladimira Nazora 12/A\, Ploče\, 20340\, Hrvatska
CATEGORIES:Događanja za djecu
END:VEVENT
END:VCALENDAR