BEGIN:VCALENDAR
VERSION:2.0
PRODID:-//Narodna knjižnica Ploče - ECPv5.7.0//NONSGML v1.0//EN
CALSCALE:GREGORIAN
METHOD:PUBLISH
X-WR-CALNAME:Narodna knjižnica Ploče
X-ORIGINAL-URL:https://knjiznice.nsk.hr/ploce
X-WR-CALDESC:Događaji za Narodna knjižnica Ploče
BEGIN:VTIMEZONE
TZID:Europe/Zagreb
BEGIN:DAYLIGHT
TZOFFSETFROM:+0100
TZOFFSETTO:+0200
TZNAME:CEST
DTSTART:20240331T010000
END:DAYLIGHT
BEGIN:STANDARD
TZOFFSETFROM:+0200
TZOFFSETTO:+0100
TZNAME:CET
DTSTART:20241027T010000
END:STANDARD
END:VTIMEZONE
BEGIN:VEVENT
DTSTART;TZID=Europe/Zagreb:20240523T180000
DTEND;TZID=Europe/Zagreb:20240523T190000
DTSTAMP:20260420T234238
CREATED:20240520T082822Z
LAST-MODIFIED:20240520T090618Z
UID:9262-1716487200-1716490800@knjiznice.nsk.hr
SUMMARY:Druženje s galebom Markom
DESCRIPTION:Draga djeco (od 5 do 10 godina)\, u četvrtak 23. 5. u 18:00 sati u goste nam dolazi galeb Marko\, junak serijala “Pustolovine Galeba Marka po parkovima Hrvatske” i autorica slikovnica\, Martina Markov.  Martina i Marko održat će Zelenu radionicu na kojoj ćete imati priliku upoznati zaštićena područja u Republici Hrvatskoj i njihove stanare. \nZelene priče su poučne i zabavne priče iz prirode\, iz hrvatskih nacionalnih parkova i parkova prirode. Glavni junak Zelenih priča\, galeb Marko\, vjeruje da će se priče djeci svidjeti te da će poželjeti posjetiti ta divna područja. A kad ih upoznaju\, zavoljet će ih i čuvati… \nGaleb Marko  \nPozdrav. Ja sam galeb Marko\, znatiželjan i pustolovan galeb klaukavac. Vodim te na divno putovanje po našim najljepšim dijelovima prirode – nacionalnim parkovima i parkovima prirode. Upoznat ćeš divnu prirodu te moje prijatelje\, brojne simpatične stanare tih parkova. \nMartinaMarkov\, biologinja i spisateljica \nOd najranijih dana gajim ljubav prema prirodi\, posebice prema moru. Iako sam odrasla u Šibeniku\, kao dijete sam svaki vikend i ljetne praznike provodila u raju\, u Murteru\, u zelenom\, plavom i žutom okruženju\, s pogledom na rasute bisere – Kornatsko otočje. Zaljubljena u njegove boje\, zvukove i mirise\, nakon završetka studija biologije na zagrebačkom Prirodoslovno-matematičkom fakultetu odlučujem se život na tom rajskom otoku. \n  \nIzvor: Galeb Marko
URL:https://knjiznice.nsk.hr/ploce/event/druzenje-s-galebom-markom/
LOCATION:Narodna knjižnica Ploče\, Vladimira Nazora 12/A\, Ploče\, 20340\, Hrvatska
CATEGORIES:Događanja za djecu,Pričaonica
ATTACH;FMTTYPE=image/jpeg:https://knjiznice.nsk.hr/ploce/wp-content/uploads/sites/74/2024/05/galeb-marko_insta_luka.jpg
END:VEVENT
END:VCALENDAR