BEGIN:VCALENDAR
VERSION:2.0
PRODID:-//Narodna knjižnica Ploče - ECPv5.7.0//NONSGML v1.0//EN
CALSCALE:GREGORIAN
METHOD:PUBLISH
X-WR-CALNAME:Narodna knjižnica Ploče
X-ORIGINAL-URL:https://knjiznice.nsk.hr/ploce
X-WR-CALDESC:Događaji za Narodna knjižnica Ploče
BEGIN:VTIMEZONE
TZID:Europe/Zagreb
BEGIN:DAYLIGHT
TZOFFSETFROM:+0100
TZOFFSETTO:+0200
TZNAME:CEST
DTSTART:20240331T010000
END:DAYLIGHT
BEGIN:STANDARD
TZOFFSETFROM:+0200
TZOFFSETTO:+0100
TZNAME:CET
DTSTART:20241027T010000
END:STANDARD
END:VTIMEZONE
BEGIN:VEVENT
DTSTART;TZID=Europe/Zagreb:20240221T180000
DTEND;TZID=Europe/Zagreb:20240221T190000
DTSTAMP:20260422T150302
CREATED:20240219T134014Z
LAST-MODIFIED:20240219T134014Z
UID:8996-1708538400-1708542000@knjiznice.nsk.hr
SUMMARY:Dramska radionica za djecu
DESCRIPTION:Naša dugogodišnja suradnica\, lutkarska pedagoginja Božena Delaš pripremila je još jednu dramsku radionicu za djecu od 6 do 10 godina.\nZa sudjelovanje na radionici nije se potrebno prijaviti\, a svi materijali su osigurani. \nRadionica će se održati ove srijede (21. 4.) s početkom u 18:00 h.
URL:https://knjiznice.nsk.hr/ploce/event/dramska-radionica-za-djecu/
LOCATION:Narodna knjižnica Ploče\, Vladimira Nazora 12/A\, Ploče\, 20340\, Hrvatska
CATEGORIES:Događanja za djecu,Radionica
END:VEVENT
END:VCALENDAR