BEGIN:VCALENDAR
VERSION:2.0
PRODID:-//Narodna knjižnica Ploče - ECPv5.7.0//NONSGML v1.0//EN
CALSCALE:GREGORIAN
METHOD:PUBLISH
X-WR-CALNAME:Narodna knjižnica Ploče
X-ORIGINAL-URL:https://knjiznice.nsk.hr/ploce
X-WR-CALDESC:Događaji za Narodna knjižnica Ploče
BEGIN:VTIMEZONE
TZID:Europe/Zagreb
BEGIN:DAYLIGHT
TZOFFSETFROM:+0100
TZOFFSETTO:+0200
TZNAME:CEST
DTSTART:20170326T010000
END:DAYLIGHT
BEGIN:STANDARD
TZOFFSETFROM:+0200
TZOFFSETTO:+0100
TZNAME:CET
DTSTART:20171029T010000
END:STANDARD
END:VTIMEZONE
BEGIN:VEVENT
DTSTART;TZID=Europe/Zagreb:20171108T190000
DTEND;TZID=Europe/Zagreb:20171108T200000
DTSTAMP:20260420T080845
CREATED:20171109T121652Z
LAST-MODIFIED:20171109T121652Z
UID:2935-1510167600-1510171200@knjiznice.nsk.hr
SUMMARY:Dragi dnevniče
DESCRIPTION:Autorska večer Silvije Krmić  „Dragi dnevniče“\,  u srijedu\, 08.11. 2017. u 19:00 sati. \nPredstavljanje vodi Melanija Mijoč\, uz glazbenu pratnju Selme Oršulić.
URL:https://knjiznice.nsk.hr/ploce/event/dragi-dnevnice/
LOCATION:Narodna knjižnica Ploče\, Vladimira Nazora 12/A\, Ploče\, 20340\, Hrvatska
CATEGORIES:Autorska večer,Događanja za odrasle
END:VEVENT
END:VCALENDAR