BEGIN:VCALENDAR
VERSION:2.0
PRODID:-//Narodna knjižnica Ploče - ECPv5.7.0//NONSGML v1.0//EN
CALSCALE:GREGORIAN
METHOD:PUBLISH
X-WR-CALNAME:Narodna knjižnica Ploče
X-ORIGINAL-URL:https://knjiznice.nsk.hr/ploce
X-WR-CALDESC:Događaji za Narodna knjižnica Ploče
BEGIN:VTIMEZONE
TZID:Europe/Zagreb
BEGIN:DAYLIGHT
TZOFFSETFROM:+0100
TZOFFSETTO:+0200
TZNAME:CEST
DTSTART:20230326T010000
END:DAYLIGHT
BEGIN:STANDARD
TZOFFSETFROM:+0200
TZOFFSETTO:+0100
TZNAME:CET
DTSTART:20231029T010000
END:STANDARD
END:VTIMEZONE
BEGIN:VEVENT
DTSTART;TZID=Europe/Zagreb:20230220T183000
DTEND;TZID=Europe/Zagreb:20230220T193000
DTSTAMP:20260420T163845
CREATED:20230215T133620Z
LAST-MODIFIED:20230215T133620Z
UID:7827-1676917800-1676921400@knjiznice.nsk.hr
SUMMARY:Čitateljski klub
DESCRIPTION:Narodna knjižnica Ploče pokreće ČITATELJSKI KLUB!\nPrvi sastanak održat će se u ponedjeljak\, 20. veljače\, s početkom u 18:30 h. Pozvani su doći svi zainteresirani\, bez obveze kasnijeg sudjelovanja u klubu. Prijave nisu potrebne. \n📚 Detalje o načinu funkcioniranja kluba dogovorit ćemo na sastanku\, kad vidimo koliko nas je\, saslušamo prijedloge i dr.
URL:https://knjiznice.nsk.hr/ploce/event/citateljski-klub/
LOCATION:Narodna knjižnica Ploče\, Vladimira Nazora 12/A\, Ploče\, 20340\, Hrvatska
CATEGORIES:Događanja za odrasle
END:VEVENT
END:VCALENDAR