BEGIN:VCALENDAR
VERSION:2.0
PRODID:-//Narodna knjižnica Ploče - ECPv5.7.0//NONSGML v1.0//EN
CALSCALE:GREGORIAN
METHOD:PUBLISH
X-WR-CALNAME:Narodna knjižnica Ploče
X-ORIGINAL-URL:https://knjiznice.nsk.hr/ploce
X-WR-CALDESC:Događaji za Narodna knjižnica Ploče
BEGIN:VTIMEZONE
TZID:Europe/Zagreb
BEGIN:DAYLIGHT
TZOFFSETFROM:+0100
TZOFFSETTO:+0200
TZNAME:CEST
DTSTART:20170326T010000
END:DAYLIGHT
BEGIN:STANDARD
TZOFFSETFROM:+0200
TZOFFSETTO:+0100
TZNAME:CET
DTSTART:20171029T010000
END:STANDARD
END:VTIMEZONE
BEGIN:VEVENT
DTSTART;TZID=Europe/Zagreb:20170214T080000
DTEND;TZID=Europe/Zagreb:20170214T170000
DTSTAMP:20260420T140752
CREATED:20170214T113042Z
LAST-MODIFIED:20170217T181247Z
UID:2010-1487059200-1487091600@knjiznice.nsk.hr
SUMMARY:Čitam\, dam\, sretan sam! Svoju knjigu daruj\, tuđe srce obraduj!
DESCRIPTION:Povodom Međunarodnog dana darivanja knjiga koji se obilježava 14. veljače u Narodnoj knjižnici Ploče prikupljamo slikovnice za ustanove\, odjele i udruge koje rade s djecom. \nAkcija prikupljanja slikovnica traje od ponedjeljka 13. do subote 18. veljače. \nU subotu\, 18. veljače završavamo akciju čitaonicom za djecu od 0 do 8 godina\, s početkom u 10:30 sati. Djeci će čitati Antonia Čikeš. \n  \nO Međunarodnome danu darivanja knjiga \nMeđunarodni dan darivanja knjiga obilježava se 14. veljače i volonterski je projekt kojim se želi probuditi ljubav prema čitanju i darivanju kod djece te ih potaknuti da više čitaju. Darujući svoju knjigu ili slikovnicu drugom djetetu\, uz objašnjenje zašto to radi i koliko će to drugom djetetu mnogo značiti\, uči koliko je lijepo i važno pomagati. \n\n• U Hrvatskoj svako treće dijete nema niti jednu slikovnicu i dječju knjigu što prije svega znači poziv na akciju jer siromaštvo u ranoj dječjoj dobi često ostavlja trajne i neizbrisive posljedice na zdravlje\, obrazovanje i sveukupan razvoj djeteta te koči ostvarivanje njegovog potencijala (UNICEF-ovo istraživanje provedeno 2012. godine; sudjelovao 1621 roditelj) . \nCilj je Međunarodnoga dana darivanja knjiga ohrabriti djecu i odrasle diljem svijeta da 14. veljače djeci daruju knjigu ili slikovnicu.
URL:https://knjiznice.nsk.hr/ploce/event/citam-dam-sretan-sam/
END:VEVENT
END:VCALENDAR