BEGIN:VCALENDAR
VERSION:2.0
PRODID:-//Narodna knjižnica Ploče - ECPv5.7.0//NONSGML v1.0//EN
CALSCALE:GREGORIAN
METHOD:PUBLISH
X-WR-CALNAME:Narodna knjižnica Ploče
X-ORIGINAL-URL:https://knjiznice.nsk.hr/ploce
X-WR-CALDESC:Događaji za Narodna knjižnica Ploče
BEGIN:VTIMEZONE
TZID:Europe/Zagreb
BEGIN:DAYLIGHT
TZOFFSETFROM:+0100
TZOFFSETTO:+0200
TZNAME:CEST
DTSTART:20150329T010000
END:DAYLIGHT
BEGIN:STANDARD
TZOFFSETFROM:+0200
TZOFFSETTO:+0100
TZNAME:CET
DTSTART:20151025T010000
END:STANDARD
END:VTIMEZONE
BEGIN:VEVENT
DTSTART;TZID=Europe/Zagreb:20150603T183000
DTEND;TZID=Europe/Zagreb:20150603T190000
DTSTAMP:20260420T084923
CREATED:20150601T082613Z
LAST-MODIFIED:20150608T164328Z
UID:138-1433356200-1433358000@knjiznice.nsk.hr
SUMMARY:Čitaj mi
DESCRIPTION:Nastavljamo s kampanjom “Čitaj mi”. Ovaj put\, djeci će čitati učiteljice Goga & Duška. \nViše o kampanji pročitajte na www.citajmi.info
URL:https://knjiznice.nsk.hr/ploce/event/citaj-mi/
LOCATION:Narodna knjižnica Ploče\, Vladimira Nazora 12/A\, Ploče\, 20340\, Hrvatska
CATEGORIES:Događanja za djecu
END:VEVENT
END:VCALENDAR