BEGIN:VCALENDAR
VERSION:2.0
PRODID:-//Narodna knjižnica Ploče - ECPv5.7.0//NONSGML v1.0//EN
CALSCALE:GREGORIAN
METHOD:PUBLISH
X-WR-CALNAME:Narodna knjižnica Ploče
X-ORIGINAL-URL:https://knjiznice.nsk.hr/ploce
X-WR-CALDESC:Događaji za Narodna knjižnica Ploče
BEGIN:VTIMEZONE
TZID:Europe/Zagreb
BEGIN:DAYLIGHT
TZOFFSETFROM:+0100
TZOFFSETTO:+0200
TZNAME:CEST
DTSTART:20150329T010000
END:DAYLIGHT
BEGIN:STANDARD
TZOFFSETFROM:+0200
TZOFFSETTO:+0100
TZNAME:CET
DTSTART:20151025T010000
END:STANDARD
END:VTIMEZONE
BEGIN:VEVENT
DTSTART;TZID=Europe/Zagreb:20151201T180000
DTEND;TZID=Europe/Zagreb:20151201T190000
DTSTAMP:20260422T142453
CREATED:20151128T123604Z
LAST-MODIFIED:20151128T123604Z
UID:786-1448992800-1448996400@knjiznice.nsk.hr
SUMMARY:Božićna radionica
DESCRIPTION:Pridružite nam se u izradi božićnih ukrasa\, \nu utorak\, 1.12.2015. u 18:00 h. \nVoditeljice radionice: učiteljice Goga & Duška
URL:https://knjiznice.nsk.hr/ploce/event/bozicna-radionica/
LOCATION:Narodna knjižnica Ploče\, Vladimira Nazora 12/A\, Ploče\, 20340\, Hrvatska
CATEGORIES:Događanja za djecu
END:VEVENT
END:VCALENDAR