BEGIN:VCALENDAR
VERSION:2.0
PRODID:-//Narodna knjižnica Ploče - ECPv5.7.0//NONSGML v1.0//EN
CALSCALE:GREGORIAN
METHOD:PUBLISH
X-WR-CALNAME:Narodna knjižnica Ploče
X-ORIGINAL-URL:https://knjiznice.nsk.hr/ploce
X-WR-CALDESC:Događaji za Narodna knjižnica Ploče
BEGIN:VTIMEZONE
TZID:Europe/Zagreb
BEGIN:DAYLIGHT
TZOFFSETFROM:+0100
TZOFFSETTO:+0200
TZNAME:CEST
DTSTART:20160327T010000
END:DAYLIGHT
BEGIN:STANDARD
TZOFFSETFROM:+0200
TZOFFSETTO:+0100
TZNAME:CET
DTSTART:20161030T010000
END:STANDARD
END:VTIMEZONE
BEGIN:VEVENT
DTSTART;TZID=Europe/Zagreb:20161026T180000
DTEND;TZID=Europe/Zagreb:20161026T190000
DTSTAMP:20260424T122117
CREATED:20161025T102506Z
LAST-MODIFIED:20161025T102535Z
UID:1520-1477504800-1477508400@knjiznice.nsk.hr
SUMMARY:Baka priča priče
DESCRIPTION:Baka Lidija opet nam dolazi u knjižnicu!  \nPričaonicu “Baka priča priče” osmislili smo 2013. godine kao dio kampanje \n“Čitaj mi” kojoj je cilj poticanje čitanja naglas djeci od najranije dobi. \nVidimo se u srijedu\, 26.10.2016. u 18 sati!
URL:https://knjiznice.nsk.hr/ploce/event/baka-prica-price/
LOCATION:Narodna knjižnica Ploče\, Vladimira Nazora 12/A\, Ploče\, 20340\, Hrvatska
CATEGORIES:Događanja za djecu
ATTACH;FMTTYPE=image/jpeg:https://knjiznice.nsk.hr/ploce/wp-content/uploads/sites/74/2016/10/baka-priča-priče_2016.jpg
END:VEVENT
END:VCALENDAR