BEGIN:VCALENDAR
VERSION:2.0
PRODID:-//Narodna knjižnica Ploče - ECPv5.7.0//NONSGML v1.0//EN
CALSCALE:GREGORIAN
METHOD:PUBLISH
X-WR-CALNAME:Narodna knjižnica Ploče
X-ORIGINAL-URL:https://knjiznice.nsk.hr/ploce
X-WR-CALDESC:Događaji za Narodna knjižnica Ploče
BEGIN:VTIMEZONE
TZID:Europe/Zagreb
BEGIN:DAYLIGHT
TZOFFSETFROM:+0100
TZOFFSETTO:+0200
TZNAME:CEST
DTSTART:20150329T010000
END:DAYLIGHT
BEGIN:STANDARD
TZOFFSETFROM:+0200
TZOFFSETTO:+0100
TZNAME:CET
DTSTART:20151025T010000
END:STANDARD
END:VTIMEZONE
BEGIN:VEVENT
DTSTART;TZID=Europe/Zagreb:20151021T190000
DTEND;TZID=Europe/Zagreb:20151021T200000
DTSTAMP:20260422T193904
CREATED:20151019T070244Z
LAST-MODIFIED:20151019T083741Z
UID:527-1445454000-1445457600@knjiznice.nsk.hr
SUMMARY:Ankica Cicvarić - "Moj put u Santiago"
DESCRIPTION:Narodna knjižnica Ploče\, 21.10.2015. (srijeda) u 19:00 h. \nPodaci o putopisu „Moj put u Santiago“ \n Knjiga „Moj put u Santiago“ je putopis o hodočašću u Santiago de Compostelu\, usvetište sv. Jakova Apostola. Riječ je o propješačenih 800 kilometara s jednog kraja Španjolske na drugi. Autoricas pouzdanjem u Boga nadvladava umor\, različite poteškoće\, teške dionice Puta. Njezini neposredni doživljaji\, impresije\, opisi raznih dogodovština i krajolika\, su vrlo dojmljivo\, dinamično i književno jako dobro napisano štivo o istinski proživljenoj stvarnosti koja volumenom obuhvaća puno više od onog što bi se očekivalo. \n Autorica: \nAnkica Cicvarić (Split\, 1970.) je učiteljica razredne nastave i profesorica teologije i likovne kulture. Živi u Strožancu kod Splita i radi kao vjeroučiteljica u tamošnjoj osnovnoj školi. Jedna je od autorica udžbenika za Vjeronauk za sedmi razred\, a u izdanju MH Split joj je izašla knjiga poezije „Krik punog mjeseca“ 2005. Autorica se još bavi glazbom (pjevala je niz godina u klapi „Ješka“\, članica je sastava „Riječ“\, snima autorski CD kršćanskog punka)\, slikarstvom\, fotografijom (članica je foto-kluba „Split“) gdje je sudjelovala u više skupnih izložbi\, a 2003. je u Gornjoj Podstrani imala samostalnu izložbu fotografija „More\, konop\, mriže“ u sklopu manifestacije Podstransko ljeto. Bavi se i primijenjenom umjetnošću (izradom unikatne odjeće i nakita)\, a s eksperimentalnim filmom „Jarboli“ je osvojila II.             nagradu na festivalu „More“ u Rijeci. Ovo joj je prvi putopis\, izdan u vlastitom izdanju.
URL:https://knjiznice.nsk.hr/ploce/event/ankica-cicvaric-moj-put-u-santiago/
LOCATION:Narodna knjižnica Ploče\, Vladimira Nazora 12/A\, Ploče\, 20340\, Hrvatska
CATEGORIES:Događanja za odrasle
END:VEVENT
END:VCALENDAR