BEGIN:VCALENDAR
VERSION:2.0
PRODID:-//Narodna knjižnica Ploče - ECPv5.7.0//NONSGML v1.0//EN
CALSCALE:GREGORIAN
METHOD:PUBLISH
X-WR-CALNAME:Narodna knjižnica Ploče
X-ORIGINAL-URL:https://knjiznice.nsk.hr/ploce
X-WR-CALDESC:Događaji za Narodna knjižnica Ploče
BEGIN:VTIMEZONE
TZID:Europe/Zagreb
BEGIN:DAYLIGHT
TZOFFSETFROM:+0100
TZOFFSETTO:+0200
TZNAME:CEST
DTSTART:20150329T010000
END:DAYLIGHT
BEGIN:STANDARD
TZOFFSETFROM:+0200
TZOFFSETTO:+0100
TZNAME:CET
DTSTART:20151025T010000
END:STANDARD
END:VTIMEZONE
BEGIN:VEVENT
DTSTART;TZID=Europe/Zagreb:20151029T190000
DTEND;TZID=Europe/Zagreb:20151029T200000
DTSTAMP:20260422T105050
CREATED:20151026T160730Z
LAST-MODIFIED:20151026T161932Z
UID:546-1446145200-1446148800@knjiznice.nsk.hr
SUMMARY:Anita Šupe: "Istine i laži o hrani"
DESCRIPTION:29.10. (četvrtak) u 19:00 h u Narodnoj knjižnici Ploče \nAutorica će predstaviti knjigu i teme koje knjiga obrađuje\, odgovarati na pitanja i potpisivati knjige.\nOvom prilikom posjetitelji će moći kupiti knjige Istine i laži o hrani i Prvu hrvatsku LCHF kuharicu po prigodno sniženoj cijeni. \nO knjizi:\nKnjiga koja je u našim krajevima pokrenula prehrambenu revoluciju za povratak prirodnoj izvornoj prehrani. Ovo je jedina knjiga na hrvatskom jeziku koja na cjelovit i jasan način opisuje najveće probleme moderne prehrane\, otkriva uzroke epidemije debljine i kroničnih bolesti\, argumentirano se obračunava s ustaljenim predrasudama i pogrešnim uvjerenjima o prehrani\, te nudi jednostavna i konkretna rješenja za regulaciju tjelesne težine i poboljšanje zdravlja. \nTeme koje obrađuje knjiga: \n\nšto je čovjekova prirodna\, izvorna hrana i što su ljudi jeli prije epidemije modernih bolesti;\nšto je pogrešno s modernim načinom prehrane;\nkako su mitovi o štetnosti masnoće i kolesterola doveli do pogoršanja ljudskog zdravlja;\no pšenici i glutenu\, skrivenom uzročniku upalnih i autoimunih bolesti;\nkoja nas hrana ubija a koja liječi;\nkako mršaviti zdravo i bez gladovanja;\no zdravoj probavi kao uvjetu za dobro zdravlje;\no važnosti zdrave crijevne mikroflore i problemu propusnih crijeva;\nkako jednostavnim promjenama prehrambenih navika vratiti i sačuvati svoje zdravlje i vitalnost.\n\nO autorici:\nAnita Šupe\, nutricionistkinja iz Šibenika\, diplomirala je na Geteborškom sveučilištu u Švedskoj gdje je živjela 10 godina. Za razliku od većine nutricionista\, Anita ne propagira službeno prihvaćene prehrambene smjernice\, jer smatra da su one znanstveno neosnovane\, tj. rezultat loše provedenih zastarjelih istraživanja i iznad svega komercijalnih interesa.\nSa svojim popularnim knjigama i blogom\, kao i neumornim gostovanjima\, predavanjima i promocijama\, u našim je krajevima uspjela pokrenuti pravu malu prehrambenu revoluciju\, promovirajući izvornu Paleo – LCHF prehranu.\n2013. godine se s obitelji iz Švedske vraća u rodni Šibenik gdje osniva izdavačku kuću Tragom\, kroz koju djeluje kao autor\, edukator i izdavač.
URL:https://knjiznice.nsk.hr/ploce/event/546/
LOCATION:Narodna knjižnica Ploče\, Vladimira Nazora 12/A\, Ploče\, 20340\, Hrvatska
CATEGORIES:Događanja za odrasle
END:VEVENT
END:VCALENDAR