BEGIN:VCALENDAR
VERSION:2.0
PRODID:-//Gradska knjižnica i čitaonica &quot;Gustav Krklec&quot; Ivanec - ECPv5.7.0//NONSGML v1.0//EN
CALSCALE:GREGORIAN
METHOD:PUBLISH
X-WR-CALNAME:Gradska knjižnica i čitaonica &quot;Gustav Krklec&quot; Ivanec
X-ORIGINAL-URL:https://knjiznice.nsk.hr/ivanec
X-WR-CALDESC:Događaji za Gradska knjižnica i čitaonica &quot;Gustav Krklec&quot; Ivanec
BEGIN:VTIMEZONE
TZID:UTC
BEGIN:STANDARD
TZOFFSETFROM:+0000
TZOFFSETTO:+0000
TZNAME:UTC
DTSTART:20250101T000000
END:STANDARD
END:VTIMEZONE
BEGIN:VEVENT
DTSTART;VALUE=DATE:20251015
DTEND;VALUE=DATE:20251116
DTSTAMP:20260422T173904
CREATED:20250527T090438Z
LAST-MODIFIED:20250930T112857Z
UID:2190-1760486400-1763251199@knjiznice.nsk.hr
SUMMARY:MJESEC HRVATSKE KNJIGE 2025.
DESCRIPTION:
URL:https://knjiznice.nsk.hr/ivanec/event/mjesec-hrvatske-knjige/
ORGANIZER;CN="Gradska%20knji%C5%BEnica%20Ivanec":MAILTO:knjiznica.krklec@optinet.hr
END:VEVENT
END:VCALENDAR