BEGIN:VCALENDAR
VERSION:2.0
PRODID:-//Gradska knjižnica i čitaonica &quot;Gustav Krklec&quot; Ivanec - ECPv5.7.0//NONSGML v1.0//EN
CALSCALE:GREGORIAN
METHOD:PUBLISH
X-WR-CALNAME:Gradska knjižnica i čitaonica &quot;Gustav Krklec&quot; Ivanec
X-ORIGINAL-URL:https://knjiznice.nsk.hr/ivanec
X-WR-CALDESC:Događaji za Gradska knjižnica i čitaonica &quot;Gustav Krklec&quot; Ivanec
BEGIN:VTIMEZONE
TZID:UTC
BEGIN:STANDARD
TZOFFSETFROM:+0000
TZOFFSETTO:+0000
TZNAME:UTC
DTSTART:20250101T000000
END:STANDARD
END:VTIMEZONE
BEGIN:VEVENT
DTSTART;VALUE=DATE:20250901
DTEND;VALUE=DATE:20251202
DTSTAMP:20260422T173904
CREATED:20250912T055532Z
LAST-MODIFIED:20250912T071606Z
UID:2287-1756684800-1764633599@knjiznice.nsk.hr
SUMMARY:JESEN U KNJIŽNICI
DESCRIPTION:
URL:https://knjiznice.nsk.hr/ivanec/event/jesen-u-knjiznici/
LOCATION:Gradska knjižnica Ivanec\, Ak. Ladislava Šabana 3\, Ivanec\, Varaždinska\, 42240\, Croatia (Local Name: Hrvatska)
ORGANIZER;CN="Gradska%20knji%C5%BEnica%20Ivanec":MAILTO:knjiznica.krklec@optinet.hr
END:VEVENT
END:VCALENDAR