BEGIN:VCALENDAR
VERSION:2.0
PRODID:-//Gradska knjižnica i čitaonica &quot;Gustav Krklec&quot; Ivanec - ECPv5.7.0//NONSGML v1.0//EN
CALSCALE:GREGORIAN
METHOD:PUBLISH
X-WR-CALNAME:Gradska knjižnica i čitaonica &quot;Gustav Krklec&quot; Ivanec
X-ORIGINAL-URL:https://knjiznice.nsk.hr/ivanec
X-WR-CALDESC:Događaji za Gradska knjižnica i čitaonica &quot;Gustav Krklec&quot; Ivanec
BEGIN:VTIMEZONE
TZID:UTC
BEGIN:STANDARD
TZOFFSETFROM:+0000
TZOFFSETTO:+0000
TZNAME:UTC
DTSTART:20260101T000000
END:STANDARD
END:VTIMEZONE
BEGIN:VEVENT
DTSTART;TZID=UTC:20260121T110000
DTEND;TZID=UTC:20260121T120000
DTSTAMP:20260420T201310
CREATED:20251229T171204Z
LAST-MODIFIED:20260120T070549Z
UID:2469-1768993200-1768996800@knjiznice.nsk.hr
SUMMARY:Abacus tradicije za digitalne ambicije
DESCRIPTION:Datum:  21.1.2026.  \nVrijeme: 11:00-12:00 \nMjesto: Gradska knjižnica Ivanec \nVoditelji: Tatjana Tomec Enc \nhttps://abakus-esf.eu/novosti/javni-dogadaj-21-01-2026-festivalsko-natjecanje-abakus-izazovi-i-stem-igre-u-knjiznici-knjiznica-i-citaonica-gustav-krklec-ivanec  \nhttps://abakus-esf.eu/ 
URL:https://knjiznice.nsk.hr/ivanec/event/abacus-tradicije-za-digitalne-ambicije/
LOCATION:Gradska knjižnica Ivanec\, Ak. Ladislava Šabana 3\, Ivanec\, Varaždinska\, 42240\, Croatia (Local Name: Hrvatska)
END:VEVENT
END:VCALENDAR