BEGIN:VCALENDAR
VERSION:2.0
PRODID:-//Narodna knjižnica Ston - ECPv5.7.0//NONSGML v1.0//EN
CALSCALE:GREGORIAN
METHOD:PUBLISH
X-WR-CALNAME:Narodna knjižnica Ston
X-ORIGINAL-URL:http://knjiznice.nsk.hr/ston
X-WR-CALDESC:Događaji za Narodna knjižnica Ston
BEGIN:VTIMEZONE
TZID:UTC
BEGIN:STANDARD
TZOFFSETFROM:+0000
TZOFFSETTO:+0000
TZNAME:UTC
DTSTART:20260101T000000
END:STANDARD
END:VTIMEZONE
BEGIN:VEVENT
DTSTART;TZID=UTC:20260427T000000
DTEND;TZID=UTC:20260427T000000
DTSTAMP:20260423T154410
CREATED:20260413T073651Z
LAST-MODIFIED:20260413T073651Z
UID:4492-1777248000-1777248000@knjiznice.nsk.hr
SUMMARY:Lektira na drugačiji način - posjet učenika OŠ Ston
DESCRIPTION:U sklopu programa Eko s knjižnicom posjetit će nas učenici 4. razreda OŠ Ston kako bi zajednički obradili lektiru Eko Eko Hrvoja Hitreca.
URL:http://knjiznice.nsk.hr/ston/event/lektira-na-drugaciji-nacin-posjet-ucenika-os-ston/
LOCATION:Narodna knjižnica Ston\, Ston
CATEGORIES:Događaj za djecu
ORGANIZER;CN="Narodna%20knji%C5%BEnica%20Ston":MAILTO:knjiznica.ston@gmail.com
END:VEVENT
END:VCALENDAR